BEGIN:VCALENDAR
VERSION:2.0
PRODID:icalendar-ruby
CALSCALE:GREGORIAN
METHOD:PUBLISH
BEGIN:VEVENT
DTSTAMP:20260424T154824Z
UID:6-1274315@hcc.co.nz
DTSTART:20261024T213000Z
DTEND:20261024T223000Z
CLASS:PUBLIC
CREATED:20260425T014129
DESCRIPTION:
LAST-MODIFIED:20260425T014129
LOCATION:Minerva Room
SUMMARY:HCC Kids Ministry
URL;VALUE=URI:https://hcc.co.nz/events/hcc-kids-ministry/2026-10-25
ATTACH;FILENAME=HCC-KIDS-MINISTRY-2024-logo-.png;FMTTYPE=image/png:https://
 dq5pwpg1q8ru0.cloudfront.net/2024/02/15/21/39/00/fd13d32d-883b-41de-8b2d-f
 0366abf411c/HCC-KIDS-MINISTRY-2024-logo-.png
END:VEVENT
END:VCALENDAR
