BEGIN:VCALENDAR
VERSION:2.0
PRODID:icalendar-ruby
CALSCALE:GREGORIAN
METHOD:PUBLISH
BEGIN:VEVENT
DTSTAMP:20260425T122728Z
UID:11-1278030@hcc.co.nz
DTSTART:20261017T210000Z
DTEND:20261017T220000Z
CLASS:PUBLIC
CREATED:20260425T224318
DESCRIPTION:We would love to have you join us at HCC! Our Sunday service st
 arts at 10am with worship\, fellowship\, and teaching.
LAST-MODIFIED:20260425T224318
LOCATION:Howick Community Church
SUMMARY:Sunday Morning Church
URL;VALUE=URI:https://hcc.co.nz/events/sunday-morning-church/2026-10-18
END:VEVENT
END:VCALENDAR
