BEGIN:VCALENDAR
VERSION:2.0
PRODID:icalendar-ruby
CALSCALE:GREGORIAN
METHOD:PUBLISH
BEGIN:VEVENT
DTSTAMP:20260425T160237Z
UID:11-1278708@hcc.co.nz
DTSTART:20261031T210000Z
DTEND:20261031T220000Z
CLASS:PUBLIC
CREATED:20260426T012452
DESCRIPTION:We would love to have you join us at HCC! Our Sunday service st
 arts at 10am with worship\, fellowship\, and teaching.
LAST-MODIFIED:20260426T012452
LOCATION:Howick Community Church
SUMMARY:Sunday Morning Church
URL;VALUE=URI:https://hcc.co.nz/events/sunday-morning-church/2026-11-01
END:VEVENT
END:VCALENDAR
